BEGIN:VCALENDAR
VERSION:2.0
PRODID:-//eventon.com NONSGML v1.0//EN
CALSCALE:GREGORIAN
METHOD:PUBLISH
BEGIN:VEVENT
UID:69e606a44bfa8
DTSTAMP:20260420T105740Z
DTSTART:20260619T065400Z
DTEND:20260619T185400Z
LOCATION:
SUMMARY:PRIVATE PARTY - NOT AVAILABLE
DESCRIPTION:PRIVATE PARTY - NOT AVAILABLE\nhttps://serpicosbreadco.com/even
 ts/private-party-not-available/
URL:https://serpicosbreadco.com/events/private-party-not-available/
END:VEVENT
END:VCALENDAR